BEGIN:VCALENDAR
VERSION:2.0
PRODID:-//Queensland Major Contractors Association - ECPv6.15.18//NONSGML v1.0//EN
CALSCALE:GREGORIAN
METHOD:PUBLISH
X-WR-CALNAME:Queensland Major Contractors Association
X-ORIGINAL-URL:https://qmca.com.au
X-WR-CALDESC:Events for Queensland Major Contractors Association
REFRESH-INTERVAL;VALUE=DURATION:PT1H
X-Robots-Tag:noindex
X-PUBLISHED-TTL:PT1H
BEGIN:VTIMEZONE
TZID:Australia/Brisbane
BEGIN:STANDARD
TZOFFSETFROM:+1000
TZOFFSETTO:+1000
TZNAME:AEST
DTSTART:20190101T000000
END:STANDARD
END:VTIMEZONE
BEGIN:VEVENT
DTSTART;TZID=Australia/Brisbane:20201210T173000
DTEND;TZID=Australia/Brisbane:20201210T193000
DTSTAMP:20260425T004316
CREATED:20201117T223219Z
LAST-MODIFIED:20201118T050551Z
UID:3896-1607621400-1607628600@qmca.com.au
SUMMARY:QMCA Xmas Networking Event - 10 December 2020
DESCRIPTION:Join us as we farewell 2020 at the Hilton Brisbane on Thursday 10 December at 5.30pm.\nWell\, wasn’t 2020 fun? If there is ever a year that needed a Christmas party\, it is this year\, so we are delighted to invite you to QMCA’s Christmas Drinks in partnership with McConnell Dowell. \nIt has been a huge year for our industry\, and we would like to take the opportunity to catch up with the friends and colleagues who have helped QMCA on our journey over the last 12 months. It will also be a chance to meet new and returning QMCA Board members. Please\, join us at the Hilton on Thursday 10 December for an evening of networking\, catching up with friends and colleagues as we head towards the finish line of another year\, ready to rest and recharge before we take on 2021. \nSo\, register now and join your friends and colleagues as we farewell 2020 and catch up before we head off for much deserved end of year breaks. \nThis event is in partnership with McConnell Dowell. \nSince 1961\, we have built thousands of quality assets and facilities for customers and communities. Our expertise has grown steadily to span building\, civil\, electrical\, fabrication\, marine\, mechanical\, pipelines\, rail\, tunnel and underground construction. Our culture is founded on expertise\, creativity and progressive thinking. We constantly challenge ourselves and our partners to find the best solution for every project. This attitude\, along with our safe\, high-quality\, systematic and structured approach\, has earned us the trust and loyalty of our clients. \nhttps://www.mcconnelldowell.com/
URL:https://qmca.com.au/event/qmca-xmas-networking-event-10-december-2020/
LOCATION:Hilton Hotel Brisbane (Ballroom)\, 190 Elizabeth Street\, Brisbane\, Qld\, 4000
END:VEVENT
END:VCALENDAR