BEGIN:VCALENDAR
VERSION:2.0
PRODID:-//Queensland Major Contractors Association - ECPv6.15.18//NONSGML v1.0//EN
CALSCALE:GREGORIAN
METHOD:PUBLISH
X-WR-CALNAME:Queensland Major Contractors Association
X-ORIGINAL-URL:https://qmca.com.au
X-WR-CALDESC:Events for Queensland Major Contractors Association
REFRESH-INTERVAL;VALUE=DURATION:PT1H
X-Robots-Tag:noindex
X-PUBLISHED-TTL:PT1H
BEGIN:VTIMEZONE
TZID:Australia/Brisbane
BEGIN:STANDARD
TZOFFSETFROM:+1000
TZOFFSETTO:+1000
TZNAME:AEST
DTSTART:20180101T000000
END:STANDARD
END:VTIMEZONE
BEGIN:VEVENT
DTSTART;TZID=Australia/Brisbane:20190627T180000
DTEND;TZID=Australia/Brisbane:20190627T220000
DTSTAMP:20260426T125110
CREATED:20190613T185233Z
LAST-MODIFIED:20190619T024553Z
UID:2626-1561658400-1561672800@qmca.com.au
SUMMARY:QMCA EOFY Networking Event - 27 June 2019
DESCRIPTION:It’s the end of the financial year\, let’s celebrate!\nIt has been a huge year for our industry\, so let’s celebrate! Join QMCA at Newstead Brewing in Milton and grab a cold beer and a slice of pizza and spend a couple of hours unwinding as you catch up with friends and colleagues from across our industry. \nTickets are free for a limit of two per QMCA member company and additional tickets can be purchased for $55 per person. \nWe look forward to seeing you for an evening of amazing craft beer and pizza (other drinks are available). \nProud Sponsors
URL:https://qmca.com.au/event/qmca-eofy-networking-event-27-june-2019/
LOCATION:Newstead Brewing Co\, 67 Castlemaine Street\, MIlton\, Qld\, 4064\, Australia
ORGANIZER;CN="Queensland Major Contractors Association":MAILTO:admin@qmca.com.au
END:VEVENT
END:VCALENDAR