BEGIN:VCALENDAR
VERSION:2.0
PRODID:-//Queensland Major Contractors Association - ECPv6.15.18//NONSGML v1.0//EN
CALSCALE:GREGORIAN
METHOD:PUBLISH
X-WR-CALNAME:Queensland Major Contractors Association
X-ORIGINAL-URL:https://qmca.com.au
X-WR-CALDESC:Events for Queensland Major Contractors Association
REFRESH-INTERVAL;VALUE=DURATION:PT1H
X-Robots-Tag:noindex
X-PUBLISHED-TTL:PT1H
BEGIN:VTIMEZONE
TZID:Australia/Brisbane
BEGIN:STANDARD
TZOFFSETFROM:+1000
TZOFFSETTO:+1000
TZNAME:AEST
DTSTART:20200101T000000
END:STANDARD
END:VTIMEZONE
BEGIN:VEVENT
DTSTART;TZID=Australia/Brisbane:20210226T120000
DTEND;TZID=Australia/Brisbane:20210226T160000
DTSTAMP:20260425T034250
CREATED:20200824T213333Z
LAST-MODIFIED:20201215T211847Z
UID:3593-1614340800-1614355200@qmca.com.au
SUMMARY:QMCA Innovation Awards Event
DESCRIPTION:The 2020 QMCA Innovation and Excellence Awards are back to celebrate the outstanding work that our members\, partners and suppliers undertake in Queensland. With 400 industry leaders and innovators in attendance\, the long-lunch will be a celebration of our industry\, as we take the afternoon to recognise the people\, projects and achievements that lead our sector.  \nThe event is a fantastic opportunity to network with colleagues\, friends\, peers and industry as we enjoy a memorable Friday afternoon celebrating the very best of the construction industry. The event includes: \n\nAnnouncement of the QMCA Innovation and Excellence Award winners across seven categories\nA three-course meal and drinks from 12.00noon through to 4.00pm\nEntertainment\nNetworking and connection opportunities\n\nGet in fast and book your table – this is one you don’t want to miss as it will sell-out! \nHave you considered becoming a financial member of QMCA? With benefits like exclusive member-price tickets to the Awards lunch and other events\, there’s no better time to join. \nContact admin@qmca.com.au to enquire or join online at www.qmca.com.au
URL:https://qmca.com.au/event/qmca-innovation-awards-event/
LOCATION:Brisbane Convention & Exhibition Centre (Plaza Terrace Room)\, Cnr Glenelg & Merrivale Street\, South Bank\, Queensland\, 4101\, Australia
ORGANIZER;CN="Queensland Major Contractors Association":MAILTO:admin@qmca.com.au
END:VEVENT
END:VCALENDAR