BEGIN:VCALENDAR
VERSION:2.0
PRODID:-//Queensland Major Contractors Association - ECPv6.15.18//NONSGML v1.0//EN
CALSCALE:GREGORIAN
METHOD:PUBLISH
X-ORIGINAL-URL:https://qmca.com.au
X-WR-CALDESC:Events for Queensland Major Contractors Association
REFRESH-INTERVAL;VALUE=DURATION:PT1H
X-Robots-Tag:noindex
X-PUBLISHED-TTL:PT1H
BEGIN:VTIMEZONE
TZID:Australia/Brisbane
BEGIN:STANDARD
TZOFFSETFROM:+1000
TZOFFSETTO:+1000
TZNAME:AEST
DTSTART:20220101T000000
END:STANDARD
END:VTIMEZONE
BEGIN:VEVENT
DTSTART;TZID=Australia/Brisbane:20231010T070000
DTEND;TZID=Australia/Brisbane:20231010T090000
DTSTAMP:20260426T101816
CREATED:20230911T055308Z
LAST-MODIFIED:20230911T073511Z
UID:5404-1696921200-1696928400@qmca.com.au
SUMMARY:QMCA Networking Breakfast - 10 October 2023 - Water
DESCRIPTION:QMCA Water Breakfast \n  \nWater security is a subject of concern for Government and residents as we grapple with supply and demand to ensure that businesses and consumers have access to clean\, safe water when and where it is needed. \n  \nWith a growing population and industrial development\, how we manage our water resources now and into the future will require long-term strategic thinking\, investment and action to renew assets and build networks to ensure that demand doesn’t outstrip demand. And that is before we factor in the variable climate that determines how much water enters catchments. Equally there is a requirement to upgrade our dams from a safety perspective that requires significant investment over the next 10-15 years. \n  \nSo\, what is the long-term strategy for infrastructure investment in Queensland’s bulk water assets? Join QMCA for our October breakfast\, where our keynote speakers from SunWater and SEQ Water will outline future plans for building the network\, ensuring supply and upgrading assets\, including dams across the State. \nProudly Sponsored By:
URL:https://qmca.com.au/event/qmca-networking-breakfast-10-october-2023-water/
LOCATION:Victoria Park Function Centre\, 309 Herston Road\, Herston\, Queensland\, 4006\, Australia
ORGANIZER;CN="Queensland Major Contractors Association":MAILTO:admin@qmca.com.au
END:VEVENT
END:VCALENDAR