BEGIN:VCALENDAR
VERSION:2.0
PRODID:-//Queensland Major Contractors Association - ECPv6.15.18//NONSGML v1.0//EN
CALSCALE:GREGORIAN
METHOD:PUBLISH
X-ORIGINAL-URL:https://qmca.com.au
X-WR-CALDESC:Events for Queensland Major Contractors Association
REFRESH-INTERVAL;VALUE=DURATION:PT1H
X-Robots-Tag:noindex
X-PUBLISHED-TTL:PT1H
BEGIN:VTIMEZONE
TZID:Australia/Brisbane
BEGIN:STANDARD
TZOFFSETFROM:+1000
TZOFFSETTO:+1000
TZNAME:AEST
DTSTART:20230101T000000
END:STANDARD
END:VTIMEZONE
BEGIN:VEVENT
DTSTART;TZID=Australia/Brisbane:20240621T070000
DTEND;TZID=Australia/Brisbane:20240621T090000
DTSTAMP:20260425T212834
CREATED:20240513T181349Z
LAST-MODIFIED:20240513T181349Z
UID:5934-1718953200-1718960400@qmca.com.au
SUMMARY:International Women In Engineering Day Breakfast: 21 June 2024
DESCRIPTION:Join QMCA\, NAWIC Queensland and DT Infrastructure as we celebrate International Women in Engineering Day. \nThis event sold out in 2022 and 2023 – please book early to avoid disappointment. \nInternational Women in Engineering Day began in the UK in 2014 as a national campaign by the Women’s Engineering Society. Since then\, INWED has grown enormously\, receiving UNESCO patronage in 2016 and going truly global the following year. The day highlights the amazing work of women in engineering and technical roles across our industry. \nAs an industry\, we have undoubtedly come a long way\, with QMCA and member companies supporting and driving positive change. However\, more can still be done to increase female participation\, promote careers and pathways in engineering\, and ensure that we can attract and retain the best talent in infrastructure and engineering. \nAt our International Women in Engineering Day breakfast\, join QMCA\, keynote speakers Sally Stannard and Lydia Gentle OAM\, and a panel of female leaders from across the industry as we celebrate women’s achievements in infrastructure and address the challenges and barriers preventing increased female participation. \nJoin us for a unique event. Book your place – grab a table\, engage in this event and celebrate the fantastic women in the construction industry. \nEvent Partner – DT Infrastructure \n \nAs part of the Gamuda group of companies\, DT Infrastructure offers a unique synergy of local expertise in complex infrastructure projects and the backing of global infrastructure and property multi-national\, Gamuda.
URL:https://qmca.com.au/event/international-women-in-engineering-day-breakfast-21-june-2024/
LOCATION:Brisbane Convention & Exhibition Centre (Plaza Terrace Room)\, Cnr Glenelg & Merrivale Street\, South Bank\, Queensland\, 4101\, Australia
ORGANIZER;CN="Queensland Major Contractors Association":MAILTO:admin@qmca.com.au
END:VEVENT
END:VCALENDAR