BEGIN:VCALENDAR
VERSION:2.0
PRODID:-//Queensland Major Contractors Association - ECPv6.15.18//NONSGML v1.0//EN
CALSCALE:GREGORIAN
METHOD:PUBLISH
X-WR-CALNAME:Queensland Major Contractors Association
X-ORIGINAL-URL:https://qmca.com.au
X-WR-CALDESC:Events for Queensland Major Contractors Association
REFRESH-INTERVAL;VALUE=DURATION:PT1H
X-Robots-Tag:noindex
X-PUBLISHED-TTL:PT1H
BEGIN:VTIMEZONE
TZID:Australia/Brisbane
BEGIN:STANDARD
TZOFFSETFROM:+1000
TZOFFSETTO:+1000
TZNAME:AEST
DTSTART:20160101T000000
END:STANDARD
END:VTIMEZONE
BEGIN:VEVENT
DTSTART;TZID=Australia/Brisbane:20170524T071500
DTEND;TZID=Australia/Brisbane:20170524T090000
DTSTAMP:20260425T224849
CREATED:20170517T061811Z
LAST-MODIFIED:20170529T012644Z
UID:464-1495610100-1495616400@qmca.com.au
SUMMARY:Member Meeting May
DESCRIPTION:Speaker:\nFrankie Carroll\, Director General\, Dept of Transport & Main Roads
URL:https://qmca.com.au/event/member-meeting-may/
LOCATION:Brisbane Showgrounds (Governor’s Pavilion)\, 600 Gregory Terrace\, Brisbane\, QLD\, 4006\, Australia
END:VEVENT
END:VCALENDAR