BEGIN:VCALENDAR
VERSION:2.0
PRODID:-//Queensland Major Contractors Association - ECPv6.15.18//NONSGML v1.0//EN
CALSCALE:GREGORIAN
METHOD:PUBLISH
X-WR-CALNAME:Queensland Major Contractors Association
X-ORIGINAL-URL:https://qmca.com.au
X-WR-CALDESC:Events for Queensland Major Contractors Association
REFRESH-INTERVAL;VALUE=DURATION:PT1H
X-Robots-Tag:noindex
X-PUBLISHED-TTL:PT1H
BEGIN:VTIMEZONE
TZID:Australia/Brisbane
BEGIN:STANDARD
TZOFFSETFROM:+1000
TZOFFSETTO:+1000
TZNAME:AEST
DTSTART:20160101T000000
END:STANDARD
END:VTIMEZONE
BEGIN:VEVENT
DTSTART;TZID=Australia/Brisbane:20190313T070000
DTEND;TZID=Australia/Brisbane:20190313T090000
DTSTAMP:20260425T232646
CREATED:20181116T233258Z
LAST-MODIFIED:20190225T010850Z
UID:2171-1552460400-1552467600@qmca.com.au
SUMMARY:Major Projects Pipeline Report Breakfast Launch (Brisbane)
DESCRIPTION:On 13 March\, QMCA and IAQ will launch the definitive guide to the state of play in the contracting and infrastructure industry in Queensland. The report is as a mainstay of government policy\, media commentary and influence\, as we actively pursue and deliver the transformational projects that employ our people\, connect our communities and drive the long term economic and social wellbeing of the state. \nDeveloped using leading economic data from BIS-Oxford Economics and project data from QMCA and IAQ members and their supply chain\, the 2019 Queensland Major Projects Pipeline Report is a true representation of the major engineering projects being considered for approval\, funding and delivery in Queensland. \nJoin us at our gala breakfast in Brisbane where we will officially launch the report and outline the key initiatives that will shape our industry for the coming years. \nThe event will be hosted by renowned economist Michael Pascoe and guest speakers include:\n– Adrian Hart\, Associate Director Construction & Maintenance BIS Oxford Economics\n– The Hon Jackie Trad MP\, Deputy Premier\, Treasurer and Minister for Aboriginal and Torres Strait Islander Partnerships \nBuy tickets
URL:https://qmca.com.au/event/major-projects-pipeline-report/
LOCATION:Brisbane Convention & Exhibition Centre (Plaza Terrace Room)\, Cnr Glenelg & Merrivale Street\, South Bank\, Queensland\, 4101\, Australia
ORGANIZER;CN="Queensland Major Contractors Association":MAILTO:admin@qmca.com.au
END:VEVENT
BEGIN:VEVENT
DTSTART;TZID=Australia/Brisbane:20190208T070000
DTEND;TZID=Australia/Brisbane:20190208T090000
DTSTAMP:20260425T232646
CREATED:20181116T232404Z
LAST-MODIFIED:20190112T222555Z
UID:2155-1549609200-1549616400@qmca.com.au
SUMMARY:QMCA Breakfast Event
DESCRIPTION:Guest Speakers: \nGene Tunny\nDirector\, Adept Economics \nQueensland’s economic outlook in a time of high State debt\, President Trump and Brexit \nGene will discuss the economic outlook for Queensland and the rest of Australia\, homing in on expected infrastructure investment and what the upcoming federal election may bring. He will consider highly uncertain factors such as Brexit\, the Trump administration\, the US-China trade war\, and China’s economic slowdown. Gene will also discuss the changes to negative gearing and capital gains taxation proposed by the federal Opposition\, based on his own consulting and published research work. \nGene Tunny is the Director of Adept Economics\, a Brisbane-based consultancy which specialises in economic modelling and cost-benefit analysis\, and he was formerly an Australian Treasury official. He is Vice-President of the Economic Society of Australia (Queensland) and is a Director of Early Childhood Intervention Australia. Gene is the author of the blog Queensland Economy Watch\, and appears frequently in state and national media commenting on economic issues. In late 2018\, Gene’s book Beautiful One Day\, Broke the Next: Queensland’s Public Finances since Sir Joh and Sir Leo was published by Connor Court. \nPaul Newman\nGeneral Manager\, Dial Before you Dig Queensland \nIs Your Business Ahead of the Game? \nDial Before You Dig is a FREE national referral service designed to assist in preventing damage and disruption to Australia’s vast infrastructure networks which provide essential services we use every day. Over the past five years there have been a number of developments that have had an impact on damage prevention. As a result DBYD have introduced into our business measures to ensure all people carrying out excavation are provided with the knowledge and experience to avoid costly damages\, project downtimes and more importantly serious injuries or fatalities. These initiatives will be the focus of the presentation. \nPaul Newman is the General Manager of Dial Before You Dig Queensland\, a position he has held for the past ten years. Paul started his career as a carpenter followed by working for Australia’s largest telecommunications carrier (Telecom/Telstra) over a 23-year period. The last seven years in Telstra Paul’s role was investigating and reporting on all major damages in Queensland\, on Telstra’s optic fibre cable network. Paul was responsible for leading a team of field specialists in damage minimisation to ensure Telstra’s network was not being put at jeopardy by civil construction activities. Paul leads a dedicated team in Queensland who are driving the safe digging message across the state. Paul has been instrumental in the development and rollout in Australia with the Locator Certification Program which commenced in July 2015 and recognised as a national certification. Paul is a member of the Australian Institute of Company Directors.
URL:https://qmca.com.au/event/qmca-breakfast-event-9/
LOCATION:Victoria Park Function Centre\, 309 Herston Road\, Herston\, Queensland\, 4006\, Australia
ORGANIZER;CN="Queensland Major Contractors Association":MAILTO:admin@qmca.com.au
END:VEVENT
BEGIN:VEVENT
DTSTART;TZID=Australia/Brisbane:20181212T180000
DTEND;TZID=Australia/Brisbane:20181212T220000
DTSTAMP:20260425T232646
CREATED:20181125T225431Z
LAST-MODIFIED:20181125T225625Z
UID:2200-1544637600-1544652000@qmca.com.au
SUMMARY:QMCA Members Christmas Networking Drinks
DESCRIPTION:tis the season to be jolly and to celebrate 2018 with QMCA at our member-only Christmas drinks and pizza night. \nIt has been a huge year for our industry and we would like to take the opportunity to catch up with the friends and colleagues who have helped QMCA on our journey over the last year. It will also be an chance to meet new and returning QMCA 2019 Board members \nPlease register via the “Buy Tickets” link.  Tickets are free and limited to two per member company\, but additional tickets can be purchased for $40 + GST per person.  We look forward to seeing  you for an evening of amazing craft beer\, pizza and nibbles (other drinks will be available).
URL:https://qmca.com.au/event/qmca-members-christmas-networking-drinks/
LOCATION:Range Brewing\, Byres Street\, Newstead\, Qld\, 4006\, Australia
ORGANIZER;CN="Queensland Major Contractors Association":MAILTO:admin@qmca.com.au
END:VEVENT
BEGIN:VEVENT
DTSTART;TZID=Australia/Brisbane:20181130T070000
DTEND;TZID=Australia/Brisbane:20181130T090000
DTSTAMP:20260425T232646
CREATED:20181003T234704Z
LAST-MODIFIED:20181019T213543Z
UID:1821-1543561200-1543568400@qmca.com.au
SUMMARY:QMCA Breakfast Event
DESCRIPTION:Guest Speakers:\nKevin Porter\, The Really Useful Anthropologist\n“How to make friends and do business with unions” \nKurt Alexander\, CEO/Founder\, Quicksafety
URL:https://qmca.com.au/event/qmca-breakfast-event-8/
LOCATION:Victoria Park Function Centre\, 309 Herston Road\, Herston\, Queensland\, 4006\, Australia
ORGANIZER;CN="Queensland Major Contractors Association":MAILTO:admin@qmca.com.au
END:VEVENT
BEGIN:VEVENT
DTSTART;TZID=Australia/Brisbane:20181019T070000
DTEND;TZID=Australia/Brisbane:20181019T090000
DTSTAMP:20260425T232646
CREATED:20180805T231150Z
LAST-MODIFIED:20181007T211615Z
UID:1545-1539932400-1539939600@qmca.com.au
SUMMARY:QMCA Breakfast Event
DESCRIPTION:
URL:https://qmca.com.au/event/qmca-breakfast-event-7/
LOCATION:Victoria Park Function Centre\, 309 Herston Road\, Herston\, Queensland\, 4006\, Australia
ORGANIZER;CN="Queensland Major Contractors Association":MAILTO:admin@qmca.com.au
END:VEVENT
BEGIN:VEVENT
DTSTART;TZID=Australia/Brisbane:20181012T070000
DTEND;TZID=Australia/Brisbane:20181012T120000
DTSTAMP:20260425T232646
CREATED:20180122T210937Z
LAST-MODIFIED:20181007T211249Z
UID:1138-1539327600-1539345600@qmca.com.au
SUMMARY:QMCA General Meeting
DESCRIPTION:7.00am – General Meeting
URL:https://qmca.com.au/event/qmca-breakfast-event-including-agm/
LOCATION:Lendlease\, 2 King Street\, Bowen Hills\, Queensland\, 4006\, Australia
ORGANIZER;CN="Queensland Major Contractors Association":MAILTO:admin@qmca.com.au
END:VEVENT
BEGIN:VEVENT
DTSTART;TZID=Australia/Brisbane:20181005T120000
DTEND;TZID=Australia/Brisbane:20181005T160000
DTSTAMP:20260425T232646
CREATED:20180806T231814Z
LAST-MODIFIED:20180808T192545Z
UID:1550-1538740800-1538755200@qmca.com.au
SUMMARY:QMCA 2018 Innovation & Excellence Awards Lunch
DESCRIPTION:The Queensland Major Contractors Association is excited to announce that tickets are now on sale to its gala 2018 Innovation and Excellence Awards event. \nBOOK TICKETS NOW \nOn October 5 at the Brisbane Convention and Exhibition Centre\, the QMCA’s long lunch will feature a full afternoon of entertainment while celebrating the best leaders and innovators in Queensland’s civil infrastructure. \nLast year’s QMCA awards event was a fantastic success and this year is going to be even bigger\, with more awards\, more entertainment and more high-value industry networking. \nAn audience of around 500 of the elite in contracting\, engineering\, consulting\, government and industry will toast the successes of the 2018 award winners and enjoy the opportunity to strengthen (and establish new) key industry contacts. \nThe event includes: \n\n3 course meal and beverages\nTop futurist and award-winning speaker Michael McQueen\nMC ‘Dr’ Karl Kruzelnicki\nChance to win a Tesla experience\n\nRepresent your company amongst the brightest stars and smartest operators of Queensland’s major construction contractors by booking your table today. \n 
URL:https://qmca.com.au/event/qmca-2018-innovation-excellence-awards-lunch/
LOCATION:Brisbane Convention & Exhibition Centre (Plaza Terrace Room)\, Cnr Glenelg & Merrivale Street\, South Bank\, Queensland\, 4101\, Australia
ORGANIZER;CN="Queensland Major Contractors Association":MAILTO:admin@qmca.com.au
END:VEVENT
BEGIN:VEVENT
DTSTART;TZID=Australia/Brisbane:20180914T070000
DTEND;TZID=Australia/Brisbane:20180914T090000
DTSTAMP:20260425T232646
CREATED:20180122T210804Z
LAST-MODIFIED:20180830T014604Z
UID:1136-1536908400-1536915600@qmca.com.au
SUMMARY:QMCA Breakfast Event
DESCRIPTION:Guest Speakers: \nSteven Evans\, CMC Asia Pacific\nAustralia Needs the NEC Form of Contract \nLeann Webb\, Aurora Marketing\nBehind closed doors – a guide to winning over evaluation panels
URL:https://qmca.com.au/event/qmca-breakfast-event-4/
LOCATION:Victoria Park Function Centre\, 309 Herston Road\, Herston\, Queensland\, 4006\, Australia
ORGANIZER;CN="Queensland Major Contractors Association":MAILTO:admin@qmca.com.au
END:VEVENT
BEGIN:VEVENT
DTSTART;TZID=Australia/Brisbane:20180831T070000
DTEND;TZID=Australia/Brisbane:20180831T090000
DTSTAMP:20260425T232646
CREATED:20180516T210633Z
LAST-MODIFIED:20180805T230912Z
UID:1265-1535698800-1535706000@qmca.com.au
SUMMARY:QMCA Breakfast Event
DESCRIPTION:
URL:https://qmca.com.au/event/qmca-breakfast-event-6/
LOCATION:Custom House (River Room)\, 399 Queen Street\, Brisbane\, Queensland\, 4000\, Australia
ORGANIZER;CN="Queensland Major Contractors Association":MAILTO:admin@qmca.com.au
END:VEVENT
BEGIN:VEVENT
DTSTART;TZID=Australia/Brisbane:20180720T070000
DTEND;TZID=Australia/Brisbane:20180720T090000
DTSTAMP:20260425T232646
CREATED:20180503T010931Z
LAST-MODIFIED:20180621T054741Z
UID:1228-1532070000-1532077200@qmca.com.au
SUMMARY:QMCA Breakfast Event
DESCRIPTION:Guest Speakers:\nSimon Thomas\nDirector\, Programme Delivery\, Inland Rail Programme\nAustralian Rail Track Corporation (ARTC) \nBill Lansbury\nDepartment of Transport & Main Roads
URL:https://qmca.com.au/event/qmca-breakfast-event-5/
LOCATION:Brisbane Convention & Exhibition Centre Room A2 – (Grey St Entrance)\, Room A2\, Arbour Level\, Grey Street\, South Brisbane\, Queensland\, 4101\, Australia
ORGANIZER;CN="Queensland Major Contractors Association":MAILTO:admin@qmca.com.au
END:VEVENT
BEGIN:VEVENT
DTSTART;TZID=Australia/Brisbane:20180615T071500
DTEND;TZID=Australia/Brisbane:20180615T090000
DTSTAMP:20260425T232646
CREATED:20180122T210654Z
LAST-MODIFIED:20180516T210100Z
UID:1134-1529046900-1529053200@qmca.com.au
SUMMARY:QMCA Breakfast Event
DESCRIPTION:Topic:\nImplementation of the Building Industry Fairness (Security of Payment) Act 2018 \nGuest Speakers:\nTed Williams\, Partner\, Piper Alderman\nAndrew MacGillivray\, Senior Associate\, Piper Alderman
URL:https://qmca.com.au/event/qmca-breakfast-event-3/
LOCATION:Victoria Park Function Centre\, 309 Herston Road\, Herston\, Queensland\, 4006\, Australia
ORGANIZER;CN="Queensland Major Contractors Association":MAILTO:admin@qmca.com.au
END:VEVENT
BEGIN:VEVENT
DTSTART;TZID=Australia/Brisbane:20180614T070000
DTEND;TZID=Australia/Brisbane:20180614T090000
DTSTAMP:20260425T232646
CREATED:20180503T010501Z
LAST-MODIFIED:20180503T010501Z
UID:1226-1528959600-1528966800@qmca.com.au
SUMMARY:Queensland Major Projects Pipeline - Townsville Launch Event
DESCRIPTION:Register Your Interest
URL:https://qmca.com.au/event/queensland-major-projects-pipeline-townsville-launch-event/
LOCATION:The Ville Resort\, Sir Leslie Thiess Drive\, Townsville\, 4810\, Australia
ORGANIZER;CN="Queensland Major Contractors Association":MAILTO:admin@qmca.com.au
END:VEVENT
BEGIN:VEVENT
DTSTART;TZID=Australia/Brisbane:20180607T070000
DTEND;TZID=Australia/Brisbane:20180607T090000
DTSTAMP:20260425T232646
CREATED:20180503T010028Z
LAST-MODIFIED:20180503T023012Z
UID:1222-1528354800-1528362000@qmca.com.au
SUMMARY:Queensland Major Projects Pipeline - Toowoomba Launch Event
DESCRIPTION:Register Your Interest
URL:https://qmca.com.au/event/queensland-major-projects-pipeline-toowoomba-launch/
LOCATION:Toowoomba City Hall (The Annexe)\, 541 Ruthven Street\, Toowoomba\, Queensland\, 4350\, Australia
ORGANIZER;CN="Queensland Major Contractors Association":MAILTO:admin@qmca.com.au
END:VEVENT
BEGIN:VEVENT
DTSTART;TZID=Australia/Brisbane:20180524T070000
DTEND;TZID=Australia/Brisbane:20180524T090000
DTSTAMP:20260425T232646
CREATED:20180502T233916Z
LAST-MODIFIED:20180503T003652Z
UID:1195-1527145200-1527152400@qmca.com.au
SUMMARY:Queensland Major Projects Pipeline - Brisbane Launch Event
DESCRIPTION:The 2018 Queensland Major Projects Pipeline Report is the leading source for all construction activities and major projects – planned\, in progress and completed – across our state. The release of the 2018 Queensland Major Projects Pipeline Report is your invitation to hear exclusive insights direct from report curator and Associate Director for Construction\, Maintenance and Mining with BIS Oxford Economics Adrian Hart. \nOpened by:\nGraham Quirk\nLord Mayor of Brisbane \nGraham has a long record of service to Brisbane and the local community\, being first elected to Council in 1985. He has been responsible for delivering many positive outcomes and infrastructure projects for the city and is committed to making Brisbane a better place to live\, work and invest in. \nGuest Speaker:\nAdrian Hart\nAssociate Director\, BIS Oxford \nAdrian is a Senior Economist\, responsible for BIS Oxford Economics’ research and forecasts for building and construction\, maintenance and mining across Australia\, New Zealand and Asia Pacific. \n \n 
URL:https://qmca.com.au/event/queensland-major-projects-pipeline-brisbane-launch-event/
LOCATION:Brisbane City Hall (Ithaca Auditorium)\, King George Square Entrance\, Brisbane\, Queensland\, 4000\, Australia
ORGANIZER;CN="Queensland Major Contractors Association":MAILTO:admin@qmca.com.au
END:VEVENT
BEGIN:VEVENT
DTSTART;TZID=Australia/Brisbane:20180418T071500
DTEND;TZID=Australia/Brisbane:20180418T090000
DTSTAMP:20260425T232646
CREATED:20180122T210432Z
LAST-MODIFIED:20180122T210432Z
UID:1132-1524035700-1524042000@qmca.com.au
SUMMARY:QMCA Breakfast Event
DESCRIPTION:
URL:https://qmca.com.au/event/qmca-breakfast-event-2/
LOCATION:Brisbane Showgrounds (Governor’s Pavilion)\, 600 Gregory Terrace\, Brisbane\, QLD\, 4006\, Australia
ORGANIZER;CN="Queensland Major Contractors Association":MAILTO:admin@qmca.com.au
END:VEVENT
BEGIN:VEVENT
DTSTART;TZID=Australia/Brisbane:20180221T071500
DTEND;TZID=Australia/Brisbane:20180221T090000
DTSTAMP:20260425T232646
CREATED:20180122T205210Z
LAST-MODIFIED:20180122T205210Z
UID:1130-1519197300-1519203600@qmca.com.au
SUMMARY:QMCA Breakfast Event
DESCRIPTION:
URL:https://qmca.com.au/event/qmca-breakfast-event/
LOCATION:Brisbane Showgrounds (Governor’s Pavilion)\, 600 Gregory Terrace\, Brisbane\, QLD\, 4006\, Australia
ORGANIZER;CN="Queensland Major Contractors Association":MAILTO:admin@qmca.com.au
END:VEVENT
BEGIN:VEVENT
DTSTART;TZID=Australia/Brisbane:20171129T071500
DTEND;TZID=Australia/Brisbane:20171129T090000
DTSTAMP:20260425T232646
CREATED:20170518T021220Z
LAST-MODIFIED:20170924T214532Z
UID:682-1511939700-1511946000@qmca.com.au
SUMMARY:QMCA Members' Breakfast Meeting November (AGM)
DESCRIPTION:Speaker: To be advised
URL:https://qmca.com.au/event/member-meeting-november-agm/
LOCATION:Brisbane Showgrounds (Governor’s Pavilion)\, 600 Gregory Terrace\, Brisbane\, QLD\, 4006\, Australia
ORGANIZER;CN="Queensland Major Contractors Association":MAILTO:admin@qmca.com.au
END:VEVENT
BEGIN:VEVENT
DTSTART;TZID=Australia/Brisbane:20171026T120000
DTEND;TZID=Australia/Brisbane:20171026T143000
DTSTAMP:20260425T232646
CREATED:20170711T210243Z
LAST-MODIFIED:20170925T204113Z
UID:878-1509019200-1509028200@qmca.com.au
SUMMARY:QMCA Innovation and Excellence Award Annual Function
DESCRIPTION:OUR SPONSORS\nMajor Sponsor\n \n\n  \nCORPORATE SPONSORS\n\n\n\n\n\n\n\n\n\n\n\n\n\n\n\n\n\n\n\nBookings can be made HERE
URL:https://qmca.com.au/event/qmca-innovation-excellence-award-annual-function/
LOCATION:Brisbane Convention & Exhibition Centre (Plaza Terrace Room)\, Cnr Glenelg & Merrivale Street\, South Bank\, Queensland\, 4101\, Australia
ORGANIZER;CN="Queensland Major Contractors Association":MAILTO:admin@qmca.com.au
END:VEVENT
BEGIN:VEVENT
DTSTART;TZID=Australia/Brisbane:20170927T071500
DTEND;TZID=Australia/Brisbane:20170927T090000
DTSTAMP:20260425T232646
CREATED:20170518T021124Z
LAST-MODIFIED:20170918T214254Z
UID:680-1506496500-1506502800@qmca.com.au
SUMMARY:QMCA Members' Breakfast Meeting September
DESCRIPTION:QMCA 2017 Queensland Major Projects Pipeline Report\n Mid-Year Update\n\nPresentation Topics/Guest Speakers\nThe mid-year update of the QMCA 2017 Major Projects Pipeline Report is hot-off-the-press. Queensland’s construction industry is at a turning point\, with conditions set to improve for civil contractors. Join QMCA and Robert Sobyra for a lively analysis of the prospects for Queensland’s engineering construction sector in the years ahead. \nRobert Sobyra is Director\, Evidence & Data with Construction Skills Queensland. He is responsible for driving CSQ’s research agenda.  Robert is a leading thinker at the intersection of construction and skills. He writes and talks regularly on all things construction\, and has a special interest in the future of construction work. \nRSVP\nVia email\, including any dietary needs\, to admin@qmca.com.au
URL:https://qmca.com.au/event/member-meeting-september/
LOCATION:Brisbane Showgrounds (Governor’s Pavilion)\, 600 Gregory Terrace\, Brisbane\, QLD\, 4006\, Australia
ORGANIZER;CN="Queensland Major Contractors Association":MAILTO:admin@qmca.com.au
END:VEVENT
BEGIN:VEVENT
DTSTART;TZID=Australia/Brisbane:20170621T071500
DTEND;TZID=Australia/Brisbane:20170621T090000
DTSTAMP:20260425T232646
CREATED:20170518T021038Z
LAST-MODIFIED:20170614T005326Z
UID:678-1498029300-1498035600@qmca.com.au
SUMMARY:QMCA Members' Breakfast Meeting June
DESCRIPTION:Guest Speakers: \nMs Alex Fischer\nExecutive General Manager\, Asset Strategy & Delivery\nSunwater \nAlex will present on SunWater’s ten year works program and how they wish to engage with industry. \nMr David Crane\nCEO & Co-Founder\nSiteSee \nSiteSee is a cloud-based cell-tower visualisation and analysis platform for telecom companies. SiteSee enables tower owners and Telcos to view\, interact and analyse cell tower infrastructure in a 3D environment and make informed decisions without having to visit the site.
URL:https://qmca.com.au/event/member-meeting-june/
LOCATION:Brisbane Showgrounds (Governor’s Pavilion)\, 600 Gregory Terrace\, Brisbane\, QLD\, 4006\, Australia
ORGANIZER;CN="Queensland Major Contractors Association":MAILTO:admin@qmca.com.au
END:VEVENT
BEGIN:VEVENT
DTSTART;TZID=Australia/Brisbane:20170524T071500
DTEND;TZID=Australia/Brisbane:20170524T090000
DTSTAMP:20260425T232646
CREATED:20170517T061811Z
LAST-MODIFIED:20170529T012644Z
UID:464-1495610100-1495616400@qmca.com.au
SUMMARY:Member Meeting May
DESCRIPTION:Speaker:\nFrankie Carroll\, Director General\, Dept of Transport & Main Roads
URL:https://qmca.com.au/event/member-meeting-may/
LOCATION:Brisbane Showgrounds (Governor’s Pavilion)\, 600 Gregory Terrace\, Brisbane\, QLD\, 4006\, Australia
END:VEVENT
END:VCALENDAR