BEGIN:VCALENDAR
VERSION:2.0
PRODID:-//Queensland Major Contractors Association - ECPv6.15.18//NONSGML v1.0//EN
CALSCALE:GREGORIAN
METHOD:PUBLISH
X-ORIGINAL-URL:https://qmca.com.au
X-WR-CALDESC:Events for Queensland Major Contractors Association
REFRESH-INTERVAL;VALUE=DURATION:PT1H
X-Robots-Tag:noindex
X-PUBLISHED-TTL:PT1H
BEGIN:VTIMEZONE
TZID:Australia/Brisbane
BEGIN:STANDARD
TZOFFSETFROM:+1000
TZOFFSETTO:+1000
TZNAME:AEST
DTSTART:20200101T000000
END:STANDARD
END:VTIMEZONE
BEGIN:VEVENT
DTSTART;TZID=Australia/Brisbane:20210902T173000
DTEND;TZID=Australia/Brisbane:20210902T193000
DTSTAMP:20260425T115234
CREATED:20210301T000118Z
LAST-MODIFIED:20210813T034941Z
UID:4007-1630603800-1630611000@qmca.com.au
SUMMARY:EoFY Networking Drinks 2 September 2021
DESCRIPTION:End of Financial Year Networking Drinks \n\nQMCA invites you to our upcoming networking event as we celebrate the successes of the past financial year. In partnership with our good friends at SMEC\, we will be celebrating the end of the financial year at Soapbox Beer. Join us for an evening of networking\, catching-up with colleagues from across the industry and celebrating the milestones and achievements of the last 12 months. \nWe will also be discussing the future of collaboration between construction and design in Queensland with an update from QMCA and Consult Australia on The Charter for the Queensland civil infrastructure industry. Its purpose is to articulate a framework for industry participants to define the values\, behaviours and working relationships desired to promote a sustainable industry focused on building better communities. \nIn partnership with:
URL:https://qmca.com.au/event/networking-drinks-canapes/
LOCATION:Soapbox Beer\, 89-101 Gipps Street\, Fortitude Valley\, Queensland\, 4006\, Australia
ORGANIZER;CN="Queensland Major Contractors Association":MAILTO:admin@qmca.com.au
END:VEVENT
BEGIN:VEVENT
DTSTART;TZID=Australia/Brisbane:20210916T070000
DTEND;TZID=Australia/Brisbane:20210916T090000
DTSTAMP:20260425T115234
CREATED:20210604T003216Z
LAST-MODIFIED:20210806T223148Z
UID:4072-1631775600-1631782800@qmca.com.au
SUMMARY:QMCA Industry Breakfast 16 September 2021
DESCRIPTION:New Energy Opportunities for the Future\nEnergy\, like water\, is vital for a prosperous Queensland. With pressure on the sector to adapt\, change and transition to renewable and green energy sources\, we look at what the future holds for the sector with presentations and a panel of industry leaders. Discussing the sector’s critical issues from generation to distribution and supply\, this event is not-to-be-missed by contractors\, designers and industry members keen to understand the new energy opportunities pivotal to Queensland’s future economic growth and prosperity.  \nSpeakers include: \n• Rod Duke\, CEO\, Energy Queensland \n• Arran McGhie\, Chief Operations Officer\, Genex Power
URL:https://qmca.com.au/event/networking-breakfast-6-august-2021/
LOCATION:Victoria Park Function Centre\, 309 Herston Road\, Herston\, Queensland\, 4006\, Australia
ORGANIZER;CN="Queensland Major Contractors Association":MAILTO:admin@qmca.com.au
END:VEVENT
END:VCALENDAR