BEGIN:VCALENDAR
VERSION:2.0
PRODID:-//Queensland Major Contractors Association - ECPv6.15.18//NONSGML v1.0//EN
CALSCALE:GREGORIAN
METHOD:PUBLISH
X-WR-CALNAME:Queensland Major Contractors Association
X-ORIGINAL-URL:https://qmca.com.au
X-WR-CALDESC:Events for Queensland Major Contractors Association
REFRESH-INTERVAL;VALUE=DURATION:PT1H
X-Robots-Tag:noindex
X-PUBLISHED-TTL:PT1H
BEGIN:VTIMEZONE
TZID:Australia/Brisbane
BEGIN:STANDARD
TZOFFSETFROM:+1000
TZOFFSETTO:+1000
TZNAME:AEST
DTSTART:20210101T000000
END:STANDARD
END:VTIMEZONE
BEGIN:VEVENT
DTSTART;TZID=Australia/Brisbane:20220318T120000
DTEND;TZID=Australia/Brisbane:20220318T160000
DTSTAMP:20260426T000731
CREATED:20210829T233309Z
LAST-MODIFIED:20220126T000800Z
UID:4258-1647604800-1647619200@qmca.com.au
SUMMARY:QMCA 2021 Awards Lunch
DESCRIPTION:Join QMCA for Industry’s Celebration of The Year  \nThe annual QMCA awards are back to celebrate the outstanding work that our members\, partners and suppliers undertake in Queensland.  \nOn 18 March 2022\, our gala event will welcome over 500 leaders from the contracting\, engineering\, consulting\, government and industry environments for a long lunch to celebrate our industry as we take the afternoon to recognise the people\, projects and achievements that lead our sector.  \nThe event is a fantastic opportunity to network with colleagues\, friends\, peers and industry as we enjoy a memorable Friday afternoon celebrating the very best of the construction industry. The event includes:  \nAnnouncement of the QMCA Innovation and Excellence Award winners across seven categories  \nA three-course meal and drinks from 12.00noon through to 4.00pm  \nEntertainment  \nNetworking and connection opportunities  \nGet in fast and book your table – this is one you don’t want to miss as it will sell-out!  \nHave you considered becoming a financial member of QMCA? With benefits like exclusive member-price tickets to the Awards lunch and other events\, there’s no better time to join. \nContact admin@qmca.com.au to enquire or join online at www.qmca.com.au
URL:https://qmca.com.au/event/qmca-2022-awards-lunch/
LOCATION:Brisbane Convention & Exhibition Centre (Plaza Terrace Room)\, Cnr Glenelg & Merrivale Street\, South Bank\, Queensland\, 4101\, Australia
ORGANIZER;CN="Queensland Major Contractors Association":MAILTO:admin@qmca.com.au
END:VEVENT
BEGIN:VEVENT
DTSTART;TZID=Australia/Brisbane:20220324T070000
DTEND;TZID=Australia/Brisbane:20220324T090000
DTSTAMP:20260426T000731
CREATED:20220212T225350Z
LAST-MODIFIED:20220227T215720Z
UID:4519-1648105200-1648112400@qmca.com.au
SUMMARY:QMCA Networking Breakfast 24 March 2022
DESCRIPTION:Hydrogen\nHydrogen is touted as the next big energy export for Queensland. With the sector set to rapidly develop based on a growing market\, government funding and increased commercial opportunities it has the potential to be as important as the CSG-LNG industry. However\, to deliver these hydrogen export plans large scale industrial plants\, pipelines and associated infrastructure are required\, which will be reliant on the engineering and construction sector in Queensland. \nQMCA\, in partnership with Clough\, invite you to our March breakfast where you will hear from industry leaders about the future of hydrogen in Queensland and the infrastructure required to take advantage of the rapidly growing industry. \nJoining us will be keynote speakers from Phil Richardson\, General Manager New Energy Projects at Stanwell Corporation\, Alana Barlow National Hydrogen Commercialisation Manager at Sumitomo Corporation and Clough who will outline the market\, engineering requirements\, skills\, resources and investment needed to transform hydrogen into a long term and sustainable industry for Queensland. \n(All attendees are required to be fully-vaccinated to attend the function and guests will be required to use the Check-in App on arrival.) \nProudly Sponsored By:
URL:https://qmca.com.au/event/qmca-networking-breakfast-24-march-2022/
LOCATION:Hilton Hotel Brisbane (Ballroom)\, 190 Elizabeth Street\, Brisbane\, Qld\, 4000
ORGANIZER;CN="Queensland Major Contractors Association":MAILTO:admin@qmca.com.au
END:VEVENT
END:VCALENDAR