BEGIN:VCALENDAR
VERSION:2.0
PRODID:-//Queensland Major Contractors Association - ECPv6.15.18//NONSGML v1.0//EN
CALSCALE:GREGORIAN
METHOD:PUBLISH
X-WR-CALNAME:Queensland Major Contractors Association
X-ORIGINAL-URL:https://qmca.com.au
X-WR-CALDESC:Events for Queensland Major Contractors Association
REFRESH-INTERVAL;VALUE=DURATION:PT1H
X-Robots-Tag:noindex
X-PUBLISHED-TTL:PT1H
BEGIN:VTIMEZONE
TZID:Australia/Brisbane
BEGIN:STANDARD
TZOFFSETFROM:+1000
TZOFFSETTO:+1000
TZNAME:AEST
DTSTART:20210101T000000
END:STANDARD
END:VTIMEZONE
BEGIN:VEVENT
DTSTART;TZID=Australia/Brisbane:20220623T070000
DTEND;TZID=Australia/Brisbane:20220623T090000
DTSTAMP:20260426T032806
CREATED:20220616T212154Z
LAST-MODIFIED:20220619T230419Z
UID:4591-1655967600-1655974800@qmca.com.au
SUMMARY:SOLD OUT: International Women in Engineering Day Networking Breakfast
DESCRIPTION:Join QMCA as we celebrate International Women In Engineering Day.  \nInternational Women in Engineering Day began in the UK in 2014 as a national campaign from the Women’s Engineering Society. Since then\, INWED has grown enormously\, receiving UNESCO patronage in 2016 and going truly global the following year. The day highlights the amazing work by women in engineering and technical roles across our industry.  \nAs an industry\, there is no doubt we have come a long way\, with QMCA and members supported programs like Constructionarium Australia’s All-Female build program a leading example of positive change. But\, more can still be done to increase female participation\, promote careers and pathways in engineering\, and ensure that we can attract and retain the best talent to infrastructure and engineering.  \nAt our International Women in Engineering Day Breakfast join QMCA\, keynote speakers and a panel of female leaders from across the industry as we celebrate the achievements of women in infrastructure and address the challenges and barriers preventing increased female participation.  \nJoin us for a unique event. Book your place\, grab a table\, engage in this event\, and celebrate the fantastic women in the construction industry.
URL:https://qmca.com.au/event/international-women-in-engineering-day-networking-breakfast/
LOCATION:Victoria Park Function Centre\, 309 Herston Road\, Herston\, Queensland\, 4006\, Australia
ORGANIZER;CN="Queensland Major Contractors Association":MAILTO:admin@qmca.com.au
END:VEVENT
END:VCALENDAR