BEGIN:VCALENDAR
VERSION:2.0
PRODID:-//Queensland Major Contractors Association - ECPv6.15.18//NONSGML v1.0//EN
CALSCALE:GREGORIAN
METHOD:PUBLISH
X-WR-CALNAME:Queensland Major Contractors Association
X-ORIGINAL-URL:https://qmca.com.au
X-WR-CALDESC:Events for Queensland Major Contractors Association
REFRESH-INTERVAL;VALUE=DURATION:PT1H
X-Robots-Tag:noindex
X-PUBLISHED-TTL:PT1H
BEGIN:VTIMEZONE
TZID:Australia/Brisbane
BEGIN:STANDARD
TZOFFSETFROM:+1000
TZOFFSETTO:+1000
TZNAME:AEST
DTSTART:20220101T000000
END:STANDARD
END:VTIMEZONE
BEGIN:VEVENT
DTSTART;TZID=Australia/Brisbane:20230908T070000
DTEND;TZID=Australia/Brisbane:20230908T090000
DTSTAMP:20260426T101631
CREATED:20230803T054116Z
LAST-MODIFIED:20230803T054116Z
UID:5360-1694156400-1694163600@qmca.com.au
SUMMARY:QMCA Networking Breakfast - 8 September - Resources
DESCRIPTION:QMCA Resources Breakfast \n\nQueensland has long been a powerhouse for Australia’s global resources industry as we have utilised the State’s natural resources to support economic growth and to underpin the State’s finances.  \n\nTraditionally dominated by coal\, gas\, base metals and bauxite\, global demand is shifting as new resources are required to support the global transition to renewable energy and the new products required to support and sustain the transition.  \n\nAnd that means infrastructure will be required to support the extraction\, transportation\, processing and utilisation of the resources that will support a changing industry. From ports to rail lines and from extraction to processing sites\, demand for support from the engineering and civil construction sector is set to grow\, so what does that mean for the sector in Queensland? Come along to our September breakfast to learn more about how you and your organisation can be involved in Queensland’s exciting resources future.
URL:https://qmca.com.au/event/qmca-networking-breakfast-8-september-resources/
LOCATION:Victoria Park Function Centre\, 309 Herston Road\, Herston\, Queensland\, 4006\, Australia
ORGANIZER;CN="Queensland Major Contractors Association":MAILTO:admin@qmca.com.au
END:VEVENT
END:VCALENDAR