BEGIN:VCALENDAR
VERSION:2.0
PRODID:-//Queensland Major Contractors Association - ECPv6.15.18//NONSGML v1.0//EN
CALSCALE:GREGORIAN
METHOD:PUBLISH
X-WR-CALNAME:Queensland Major Contractors Association
X-ORIGINAL-URL:https://qmca.com.au
X-WR-CALDESC:Events for Queensland Major Contractors Association
REFRESH-INTERVAL;VALUE=DURATION:PT1H
X-Robots-Tag:noindex
X-PUBLISHED-TTL:PT1H
BEGIN:VTIMEZONE
TZID:Australia/Brisbane
BEGIN:STANDARD
TZOFFSETFROM:+1000
TZOFFSETTO:+1000
TZNAME:AEST
DTSTART:20230101T000000
END:STANDARD
END:VTIMEZONE
BEGIN:VEVENT
DTSTART;TZID=Australia/Brisbane:20240208T180000
DTEND;TZID=Australia/Brisbane:20240208T213000
DTSTAMP:20260426T022843
CREATED:20240111T091521Z
LAST-MODIFIED:20240117T055524Z
UID:5594-1707415200-1707427800@qmca.com.au
SUMMARY:Exclusive QMCA YCP 2024 Launch Event - 8 February 2024
DESCRIPTION:Join Us for the Exclusive QMCA YCP 2024 Launch Event \nJoin QMCA for the QMCA Young Construction Professionals launch event\, an evening of networking\, insight\, and celebration among industry leaders and up-and-coming professionals as we cruise along the Brisbane River\, exploring the city’s bridges in style. \nEvent Details: \n\nDate: Thursday\, 8 February 2024\nBoarding Time: 6:00pm\nDisembark Time: 9:30pm\nLocation: Howard Smith Wharves. The cruise will depart from the Howard Smith Wharves terminal. All registered guests will be sent email instructions before the event with the required boarding information.\n\nWhat to Expect: \n\nGourmet Canapes\nDrinks Package: beer\, wine\, and non-alcoholic options\nNetworking and insights into bridge design\, construction and legacy\n\nSchedule: \n\n6:30pm – YCP welcome & speech on the Story Bridge\n7:15pm – Q&A session on the Eleanor Schonell Bridge\n8:00pm – Interactive bridge discussion session with our major sponsor on an iconic Brisbane river structure\n\nTickets are $50 (+ GST) per person. Only 80 tickets are available for this first event\, and we are limiting guests to site engineers\, graduates\, and undergraduates from QMCA member companies as we look to create a cohort and network of young professionals to support QMCA\, our industry\, advocacy\, and initiatives. Future events will be open to a wider range of QMCA member roles and associate members\, and we will be running several events through 2024. \nSecure your place today and join us for a night under the stars\, connecting with the great minds of our industry. We look forward to welcoming you aboard for a memorable evening.
URL:https://qmca.com.au/event/exclusive-qmca-ycp-2024-launch-event/
LOCATION:Howard Smith Wharves\, 5 Boundary Street\, Brisbane City\, Queensland\, 4000\, Australia
ORGANIZER;CN="Queensland Major Contractors Association":MAILTO:admin@qmca.com.au
END:VEVENT
BEGIN:VEVENT
DTSTART;TZID=Australia/Brisbane:20240216T120000
DTEND;TZID=Australia/Brisbane:20240216T160000
DTSTAMP:20260426T022843
CREATED:20231211T013009Z
LAST-MODIFIED:20231211T013009Z
UID:5570-1708084800-1708099200@qmca.com.au
SUMMARY:QMCA Annual Awards Lunch - 16 February 2024
DESCRIPTION:Join QMCA for Industry’s Celebration of the Year \nThe annual QMCA Awards are back to celebrate the outstanding work that our members\, partners and suppliers undertake in Queensland. \nOn Friday 16th February\, our gala event will welcome over 500 leaders from the contracting\, engineering\, consulting\, government and industry environments for a long lunch to celebrate our industry as we take the afternoon to recognise the people\, projects and achievements that lead our sector. \nThe event is a fantastic opportunity to network with colleagues\, friends\, peers and industry as we enjoy a memorable Friday afternoon celebrating the very best of the construction industry. \nThe event includes: \n\nAnnouncement of the QMCA Innovation and Excellence Award winners\n\n\nIan Harrington Collaboration Award\nDale Gilbert Lifetime Achievement Award\nCbus Superfund Project of the Year Over $100M Award\nCoates Project of the Year Under $100M Award\nEnergy Fleet by Hembrows Design Excellence Award\nTechnology and Innovation Award\nConstruction Professional of the Year Award\n4020 Consult Emerging Professional of the Year Award\nVisy Sustainability and Community Award\n\n\nA three-course meal and drinks from 12.00noon through to 4.00pm\nEntertainment\nNetworking and connection opportunities\n\nGet in fast and book your table – this is one you don’t want to miss\, as it will sell-out! \nHave you considered becoming a member of QMCA? With benefits like exclusive member-price tickets to the Awards lunch and other events\, there’s no better time to join. \nContact admin@qmca.com.au to enquire or join online at www.qmca.com.au \nSponsors\nQMCA would like to acknowledge and thank our supporters\, without whom the 2023 Innovation and Excellence Awards would not be possible. \n \nCBUS PROJECT OF THE YEAR $100M+ AWARD SPONSOR \nCbus is the leading Industry Super Fund for the building\, construction and allied industries. \nAs one of Australia’s largest super funds\, Cbus is passionate about providing strong retirement outcomes for members and helping employers manage their business superannuation needs. \nEstablished in 1984\, Cbus is run only to maximise returns to members\, and not profit to shareholders. \nWith $65 billion in funds under management (as at June 2021)\, Cbus invests back into your industry\, creating jobs and stimulating economic growth through our subsidiary company Cbus Property Pty Ltd*. \nCbus is proud to sponsor the QMCA Innovation & Excellence Awards and specifically congratulates the winner of the Project of the Year above $100 million Award. \n*Cbus Property Pty Ltd is a wholly-owned subsidiary of Cbus and has responsibility for the strategic performance and management of Cbus’ direct property investments. \nCbus’ Trustee: United Super Pty Ltd ABN 46 006 261 623 AFSL 233792 Cbus ABN 75 493 363 262. This information is about Cbus and does not take into account your specific needs or considerations. For more information about Cbus visit www.cbussuper.com.au or call us on 1300 361 784. For more information about Cbus Property visit www.cbusproperty .com.au \n \n4020 CONSULT YOUNG PROFESSIONAL OF THE YEAR AWARD SPONSOR \n4020 is delighted to support the Young Professional of the Year Award. 4020 was established to provide our client’s within the Construction\, Engineering & Renewables sectors with a highly effective approach to managing their People strategy and Recruitment operations. With a clear focus to overcome the challenges that often beset SMEs\, 4020 Consult engages in genuine partnerships with a select group of clients to enhance their people engagement strategies while also optimising their staff performance through training and coaching. The very core of our business though has always been recruitment\, where we specialise is attracting the highest quality of candidates through our extensive networks and search techniques. \n \nCoates is Australia’s leading equipment hire provider\, operating across a range of markets including engineering\, mining and resources\, infrastructure\, manufacturing\, construction\, agriculture and major events. \nIn FY21\, Coates celebrated 136 years of commitment to supporting their customers who help build Australia. \nWith a national footprint of over 150 branches\, more than one million pieces of equipment and over 1\,900 highly skilled employees\, Coates provides expert equipment solutions for nearly 19\,000 customers. \nThis includes end-to-end solutions for temporary works\, traffic management\, water management\, industrial shutdowns\, maintenance\, training services and events. \nSo give Coates a call on 13 15 52 or visit coates.com.au and let’s make it happen. \n \nA global leader in packaging and resource recovery \nVisy is a global leader in packaging and resource recovery and has been a pioneer in sustainability since our inception. \nWe’re proud that sustainability sits at the centre of our operating model. \nWe’re committed advocates on some of the bigger issues that make a difference to us\, our customers and our communities: from pushing for more sustainable manufacturing approaches\, to creating better economic futures for regional communities. \nOur innovation\, manufacturing and logistic capabilities are organised around an integrated closed loop. Together\, they give life to tailored solutions that deliver enduring value for our customers\, partners and communities. \nIn business for over 70 years\, we operate in more than 140 sites throughout Australasia and have trading offices across Asia and Europe. \nWith over 7\,000 employees\, our innovative approach provides end-to-end solutions for our customers’ needs across paper\, primary packaging\, fibre packaging\, packaging supplies and consumables\, point of sale displays\, automation\, materials handling\, logistics and recycling. \n \nEnergy Fleet powered by Hembrows Electrical\, is disrupting how clean\, renewable energy is used and accessed on major construction and infrastructure projects. Our innovative fleet of solar-powered construction site energy solutions has been successfully deployed on projects across Queensland and New South Wales\, offering an alternative to noisy\, large-scale diesel generators while supporting your projects and the wider industry’s move to a net zero\, clean energy future. \nSupported by Hembrows’ 45 years of operation and success in delivering electrical solutions for major construction\, infrastructure and engineering projects\, Energy Fleet brings you the latest tried and tested technology\, backed by an electrical contractor with a proven track record of delivering design & construct solutions in energy and solar.
URL:https://qmca.com.au/event/qmca-annual-awards-lunch-16-february-2024/
LOCATION:Brisbane Convention & Exhibition Centre (Plaza Terrace Room)\, Cnr Glenelg & Merrivale Street\, South Bank\, Queensland\, 4101\, Australia
ORGANIZER;CN="Queensland Major Contractors Association":MAILTO:admin@qmca.com.au
END:VEVENT
END:VCALENDAR