BEGIN:VCALENDAR
VERSION:2.0
PRODID:-//Queensland Major Contractors Association - ECPv6.15.18//NONSGML v1.0//EN
CALSCALE:GREGORIAN
METHOD:PUBLISH
X-WR-CALNAME:Queensland Major Contractors Association
X-ORIGINAL-URL:https://qmca.com.au
X-WR-CALDESC:Events for Queensland Major Contractors Association
REFRESH-INTERVAL;VALUE=DURATION:PT1H
X-Robots-Tag:noindex
X-PUBLISHED-TTL:PT1H
BEGIN:VTIMEZONE
TZID:Australia/Brisbane
BEGIN:STANDARD
TZOFFSETFROM:+1000
TZOFFSETTO:+1000
TZNAME:AEST
DTSTART:20230101T000000
END:STANDARD
END:VTIMEZONE
BEGIN:VEVENT
DTSTART;TZID=Australia/Brisbane:20240522T070000
DTEND;TZID=Australia/Brisbane:20240522T090000
DTSTAMP:20260425T211913
CREATED:20240408T061755Z
LAST-MODIFIED:20240419T064008Z
UID:5906-1716361200-1716368400@qmca.com.au
SUMMARY:QMCA Defence Networking Breakfast 22 May 2024
DESCRIPTION:QMCA Defence Networking Breakfast\nJoin QMCA\, and event partners Webuild\, as we examine the future investment\, the resources required to support vital projects\, and the opportunities for businesses to participate in defence infrastructure projects in Queensland. As Australia builds sovereign defence capability and capacity\, investment in projects to support the sector is set to increase to over $2.8 billion across the next five years\, according to the 2023 Queensland Major Projects Pipeline Report. With each major project requiring a combination of both engineering and building infrastructure\, the sector is set to be of significant interest to QMCA members and Associates across the long term. Key projects include: \n\nHarveys Range Facility Upgrade\nSingapore Force Posture Initiatives: Townsville\nSingapore Force Posture Initiatives: Shoalwater Bay\nRAAF Base Townsville: Pellegrine Facilities\nThe Borneo Barracks Redevelopment\nThe National Airfield Works: Oakey and Townsville\nThe National Airfield Works: Amberley\n\nJoin us at our May networking breakfast to hear from industry experts on the opportunities that lie ahead. \nSponsored by:
URL:https://qmca.com.au/event/qmca-defence-networking-breakfast-17-may-2024/
LOCATION:Victoria Park Function Centre\, 309 Herston Road\, Herston\, Queensland\, 4006\, Australia
ORGANIZER;CN="Queensland Major Contractors Association":MAILTO:admin@qmca.com.au
END:VEVENT
END:VCALENDAR