BEGIN:VCALENDAR
VERSION:2.0
PRODID:-//Queensland Major Contractors Association - ECPv6.15.18//NONSGML v1.0//EN
CALSCALE:GREGORIAN
METHOD:PUBLISH
X-ORIGINAL-URL:https://qmca.com.au
X-WR-CALDESC:Events for Queensland Major Contractors Association
REFRESH-INTERVAL;VALUE=DURATION:PT1H
X-Robots-Tag:noindex
X-PUBLISHED-TTL:PT1H
BEGIN:VTIMEZONE
TZID:Australia/Brisbane
BEGIN:STANDARD
TZOFFSETFROM:+1000
TZOFFSETTO:+1000
TZNAME:AEST
DTSTART:20230101T000000
END:STANDARD
END:VTIMEZONE
BEGIN:VEVENT
DTSTART;TZID=Australia/Brisbane:20241023T070000
DTEND;TZID=Australia/Brisbane:20241023T090000
DTSTAMP:20260425T135133
CREATED:20240921T063435Z
LAST-MODIFIED:20241001T042019Z
UID:6196-1729666800-1729674000@qmca.com.au
SUMMARY:QMCA Networking Event - 23 October 2024 - Brisbane Metro Breakfast
DESCRIPTION:QMCA Brisbane Metro Networking Breakfast\nBrisbane Metro is set to transform rapid transit across Brisbane when it opens in late 2024. A ‘turn up and go’ service\, Metro will connect the city to the suburbs via 18 stations from Eight Mile Plains to Roma Street\, and Royal Brisbane and Women’s Hospital to University of Queensland. \nAs we look ahead to 2032\, exciting plans are in development as Brisbane City Council and the Queensland Government work together to plan future extensions to the service. Comprising 22 new stations\, the proposed expanded service will cover the south to Springwood\, east to Capalaba\, and north to Carseldine. Both levels of Government are in agreement and will complete a ‘rapid detailed business case’ for submission to the Commonwealth for funding. \nCr Ryan Murphy\, Councillor for Chandler Ward and Civic Cabinet Chair for Transport\, will join us for breakfast to discuss Brisbane Metro\, its launch\, future developments\, and its vital role in the future of public transport in Brisbane. \nBook your tickets today for a hugely popular event that will sell out. Remember\, QMCA members have two free tickets to every networking breakfast\, so use your membership to its fullest advantage. \nProudly Sponsored By:
URL:https://qmca.com.au/event/qmca-networking-event-23-october-2024-brisbane-metro-breakfast/
LOCATION:Victoria Park Function Centre\, 309 Herston Road\, Herston\, Queensland\, 4006\, Australia
ORGANIZER;CN="Queensland Major Contractors Association":MAILTO:admin@qmca.com.au
END:VEVENT
END:VCALENDAR