BEGIN:VCALENDAR
VERSION:2.0
PRODID:-//Queensland Major Contractors Association - ECPv6.15.18//NONSGML v1.0//EN
CALSCALE:GREGORIAN
METHOD:PUBLISH
X-WR-CALNAME:Queensland Major Contractors Association
X-ORIGINAL-URL:https://qmca.com.au
X-WR-CALDESC:Events for Queensland Major Contractors Association
REFRESH-INTERVAL;VALUE=DURATION:PT1H
X-Robots-Tag:noindex
X-PUBLISHED-TTL:PT1H
BEGIN:VTIMEZONE
TZID:Australia/Brisbane
BEGIN:STANDARD
TZOFFSETFROM:+1000
TZOFFSETTO:+1000
TZNAME:AEST
DTSTART:20230101T000000
END:STANDARD
END:VTIMEZONE
BEGIN:VEVENT
DTSTART;TZID=Australia/Brisbane:20241114T070000
DTEND;TZID=Australia/Brisbane:20241114T090000
DTSTAMP:20260425T122202
CREATED:20241009T012248Z
LAST-MODIFIED:20241009T012248Z
UID:6261-1731567600-1731574800@qmca.com.au
SUMMARY:2024 Queensland Major Projects Pipeline Report - Brisbane Launch  - 14 November 2024
DESCRIPTION:Queensland Major Projects Pipeline Report – Brisbane Launch \nThe Queensland Major Projects Pipeline Report is the definitive guide to the major construction works that will define the success of Queensland’s contracting sector. Over the past few years\, we have seen the total five-year pipeline grow from $48b in 2020 to over $90b in 2023. Post the 2024 State election\, what will the pipeline look like? Where is the projected investment? How does the industry respond to this\, and what does the industry need to do to deliver this massive pipeline? \nLaunched via a gala event\, the 2024 Queensland Major Projects Pipeline Report will be the essential guide to our industry and the projects Queensland needs for long-term financial and social prosperity. \nEvent Date\nRegister today for our launch event in Brisbane: \nWhen: Thursday\, 14 November – 7:00am to 9:00am \nWhere: Brisbane Convention and Exhibition Centre (Plaza Terrace room)\, Cnr Merivale & Glenelg Streets South Bank
URL:https://qmca.com.au/event/2024-queensland-major-projects-pipeline-report-brisbane-launch-14-november-2024/
LOCATION:Brisbane Convention & Exhibition Centre (Plaza Terrace Room)\, Cnr Glenelg & Merrivale Street\, South Bank\, Queensland\, 4101\, Australia
ORGANIZER;CN="Queensland Major Contractors Association":MAILTO:admin@qmca.com.au
END:VEVENT
BEGIN:VEVENT
DTSTART;TZID=Australia/Brisbane:20241119T070000
DTEND;TZID=Australia/Brisbane:20241119T090000
DTSTAMP:20260425T122202
CREATED:20241009T012537Z
LAST-MODIFIED:20241009T012746Z
UID:6264-1731999600-1732006800@qmca.com.au
SUMMARY:2024 Queensland Major Projects Pipeline Report: Townsville - 19 November 2024
DESCRIPTION:Queensland Major Projects Pipeline Report – Townsville \nThe Queensland Major Projects Pipeline Report is the definitive guide to the major construction works that will define the success of Queensland’s contracting sector. Over the past few years\, we have seen the total five-year pipeline grow from $48b in 2020 to over $90b in 2023. Post the 2024 State election\, what will the pipeline look like? Where is the projected investment? How does the industry respond to this\, and what does the industry need to do to deliver this massive pipeline? \nLaunched at a special Townsville event\, the 2024 Queensland Major Projects Pipeline Report will be the essential guide to our industry and the projects Queensland and North Queensland needs for long-term financial and social prosperity. \nEvent Date \nRegister today for our Townsville region launch: \nWhen: Tuesday 19 November – 7:00am to 9:00am \nWhere: Townsville RSL Club\, 139-151 Charters Towers Road\, Hyde Park
URL:https://qmca.com.au/event/2024-queensland-major-projects-pipeline-report-townsville-19-november-2024/
LOCATION:Townsville RSL Club\, 139 Charters Towers Road\, Hyde Park\, Queensland\, 4812\, Australia
ORGANIZER;CN="Queensland Major Contractors Association":MAILTO:admin@qmca.com.au
END:VEVENT
BEGIN:VEVENT
DTSTART;TZID=Australia/Brisbane:20241120T070000
DTEND;TZID=Australia/Brisbane:20241120T090000
DTSTAMP:20260425T122202
CREATED:20241009T013317Z
LAST-MODIFIED:20241009T013317Z
UID:6269-1732086000-1732093200@qmca.com.au
SUMMARY:2024 Queensland Major Projects Pipeline Report: Gladstone  - 20 November 2024
DESCRIPTION:Queensland Major Projects Pipeline Report – Gladstone \nThe Queensland Major Projects Pipeline Report is the definitive guide to the major construction works that will define the success of Queensland’s contracting sector. Over the past few years\, we have seen the total five-year pipeline grow from $48b in 2020 to over $90b in 2023. Post the 2024 State election\, what will the pipeline look like? Where is the projected investment? How does the industry respond to this\, and what does the industry need to do to deliver this massive pipeline? \nLaunched at a special Gladstone event\, the 2024 Queensland Major Projects Pipeline Report will be the essential guide to our industry and the projects Queensland and Central Queensland need for long-term financial and social prosperity. \nEvent Date \nRegister today for our Gladstone region launch: \nWhen: Wednesday\, 20 November – 7:00am to 9:00am \nWhere: Yallara Sports Club\, Wood Street & Bell Street\, Gladstone
URL:https://qmca.com.au/event/2024-queensland-major-projects-pipeline-report-gladstone-20-november-2024/
LOCATION:Yaralla Sports Club\, 20 O'Connell Street\, Barney Point\, Queensland\, 4680\, Australia
ORGANIZER;CN="Queensland Major Contractors Association":MAILTO:admin@qmca.com.au
END:VEVENT
BEGIN:VEVENT
DTSTART;TZID=Australia/Brisbane:20241128T070000
DTEND;TZID=Australia/Brisbane:20241128T090000
DTSTAMP:20260425T122202
CREATED:20241009T013525Z
LAST-MODIFIED:20241009T013525Z
UID:6272-1732777200-1732784400@qmca.com.au
SUMMARY:2024 Queensland Major Projects Pipeline Report: Toowoomba  - 28 November 2024
DESCRIPTION:Queensland Major Projects Pipeline Report – Toowoomba \nThe Queensland Major Projects Pipeline Report is the definitive guide to the major construction works that will define the success of Queensland’s contracting sector. Over the past few years\, we have seen the total five-year pipeline grow from $48b in 2020 to over $90b in 2023. Post the 2024 State election\, what will the pipeline look like? Where is the projected investment? How does the industry respond to this\, and what does the industry need to do to deliver this massive pipeline? \nLaunched at a special Gladstone event\, the 2024 Queensland Major Projects Pipeline Report will be the essential guide to our industry and the projects Queensland and the Toowoomba\, Darling Downs and Surat Basin need for long-term financial and social prosperity. \nEvent Date \nRegister today for our Toowoomba region launch: \nWhen: Thursday 28 November – 7:00am to 9:00am \nWhere: Picnic Point Function Centre\, 164 Tourist Road\, Toowoomba
URL:https://qmca.com.au/event/2024-queensland-major-projects-pipeline-report-toowoomba-28-november-2024/
LOCATION:Picnic Point Function Centre (Grand Vista Room)\, 164 Tourist Drive\, Toowoomba\, Queensland\, 4350\, Australia
ORGANIZER;CN="Queensland Major Contractors Association":MAILTO:admin@qmca.com.au
END:VEVENT
END:VCALENDAR